BEGIN:VCALENDAR
VERSION:2.0
PRODID:-//Septic Preservation Services - ECPv6.15.20//NONSGML v1.0//EN
CALSCALE:GREGORIAN
METHOD:PUBLISH
X-WR-CALNAME:Septic Preservation Services
X-ORIGINAL-URL:https://septicpreservation.com
X-WR-CALDESC:Events for Septic Preservation Services
REFRESH-INTERVAL;VALUE=DURATION:PT1H
X-Robots-Tag:noindex
X-PUBLISHED-TTL:PT1H
BEGIN:VTIMEZONE
TZID:America/New_York
BEGIN:DAYLIGHT
TZOFFSETFROM:-0500
TZOFFSETTO:-0400
TZNAME:EDT
DTSTART:20170312T070000
END:DAYLIGHT
BEGIN:STANDARD
TZOFFSETFROM:-0400
TZOFFSETTO:-0500
TZNAME:EST
DTSTART:20171105T060000
END:STANDARD
BEGIN:DAYLIGHT
TZOFFSETFROM:-0500
TZOFFSETTO:-0400
TZNAME:EDT
DTSTART:20180311T070000
END:DAYLIGHT
BEGIN:STANDARD
TZOFFSETFROM:-0400
TZOFFSETTO:-0500
TZNAME:EST
DTSTART:20181104T060000
END:STANDARD
BEGIN:DAYLIGHT
TZOFFSETFROM:-0500
TZOFFSETTO:-0400
TZNAME:EDT
DTSTART:20190310T070000
END:DAYLIGHT
BEGIN:STANDARD
TZOFFSETFROM:-0400
TZOFFSETTO:-0500
TZNAME:EST
DTSTART:20191103T060000
END:STANDARD
BEGIN:DAYLIGHT
TZOFFSETFROM:-0500
TZOFFSETTO:-0400
TZNAME:EDT
DTSTART:20200308T070000
END:DAYLIGHT
BEGIN:STANDARD
TZOFFSETFROM:-0400
TZOFFSETTO:-0500
TZNAME:EST
DTSTART:20201101T060000
END:STANDARD
END:VTIMEZONE
BEGIN:VEVENT
DTSTART;TZID=America/New_York:20190129T080000
DTEND;TZID=America/New_York:20190129T170000
DTSTAMP:20260422T090953
CREATED:20190124T222047Z
LAST-MODIFIED:20190124T222047Z
UID:5378-1548748800-1548781200@septicpreservation.com
SUMMARY:Septic Pumping
DESCRIPTION:Septic pumping in Plymouth\, Marshfield\, Carver\, Sandwich\, Bourne and Halifax
URL:https://septicpreservation.com/schedule/septic-pumping-40/
CATEGORIES:SPS Near You!
END:VEVENT
BEGIN:VEVENT
DTSTART;TZID=America/New_York:20190128T080000
DTEND;TZID=America/New_York:20190128T170000
DTSTAMP:20260422T090953
CREATED:20190124T220435Z
LAST-MODIFIED:20190124T220435Z
UID:5372-1548662400-1548694800@septicpreservation.com
SUMMARY:Septic Design Meeting
DESCRIPTION:Septic Design Meeting for Westport Property at our Norton office
URL:https://septicpreservation.com/schedule/septic-design-meeting-25/
CATEGORIES:SPS Near You!
END:VEVENT
BEGIN:VEVENT
DTSTART;TZID=America/New_York:20190125T080000
DTEND;TZID=America/New_York:20190125T170000
DTSTAMP:20260422T090953
CREATED:20190122T201900Z
LAST-MODIFIED:20190122T201900Z
UID:5364-1548403200-1548435600@septicpreservation.com
SUMMARY:Functional Inspections
DESCRIPTION:Functional inspections in Portsmouth\, Little Compton\, Middletown\, Barrington and Tiverton RI
URL:https://septicpreservation.com/schedule/functional-inspections-6/
CATEGORIES:SPS Near You!
END:VEVENT
BEGIN:VEVENT
DTSTART;TZID=America/New_York:20190124T080000
DTEND;TZID=America/New_York:20190124T170000
DTSTAMP:20260422T090953
CREATED:20190123T230243Z
LAST-MODIFIED:20190122T200344Z
UID:5358-1548316800-1548349200@septicpreservation.com
SUMMARY:Septic Alarm Investigation
DESCRIPTION:Septic Alarm Investigation in Westport\, MA
URL:https://septicpreservation.com/schedule/septic-alarm-investigation/
CATEGORIES:SPS Near You!
END:VEVENT
BEGIN:VEVENT
DTSTART;TZID=America/New_York:20190124T080000
DTEND;TZID=America/New_York:20190124T170000
DTSTAMP:20260422T090953
CREATED:20190122T200232Z
LAST-MODIFIED:20190122T200232Z
UID:5355-1548316800-1548349200@septicpreservation.com
SUMMARY:Septic Alarm Installation
DESCRIPTION:Septic Alarm Installation in Hingham\, MA
URL:https://septicpreservation.com/schedule/septic-alarm-installation-2/
CATEGORIES:SPS Near You!
END:VEVENT
BEGIN:VEVENT
DTSTART;TZID=America/New_York:20190123T080000
DTEND;TZID=America/New_York:20190123T170000
DTSTAMP:20260422T090953
CREATED:20190122T192646Z
LAST-MODIFIED:20190122T192646Z
UID:5349-1548230400-1548262800@septicpreservation.com
SUMMARY:Septic Design Meeting
DESCRIPTION:Septic System Design Meeting for Attleboro property at Norton Office
URL:https://septicpreservation.com/schedule/septic-design-meeting-24/
CATEGORIES:SPS Near You!
END:VEVENT
BEGIN:VEVENT
DTSTART;TZID=America/New_York:20190122T080000
DTEND;TZID=America/New_York:20190122T170000
DTSTAMP:20260422T090953
CREATED:20190118T191011Z
LAST-MODIFIED:20190118T191011Z
UID:5343-1548144000-1548176400@septicpreservation.com
SUMMARY:Overboard Discharge Services and Repairs
DESCRIPTION:Overboard Discharge Services and Repairs in Tenants Harbor\, Friendship\, Bremen\, Owl’s Head\, Islesboro and Union
URL:https://septicpreservation.com/schedule/overboard-discharge-services-and-repairs-3/
CATEGORIES:SPS Near You!
END:VEVENT
BEGIN:VEVENT
DTSTART;TZID=America/New_York:20190121T080000
DTEND;TZID=America/New_York:20190121T170000
DTSTAMP:20260422T090953
CREATED:20190118T185404Z
LAST-MODIFIED:20190118T185404Z
UID:5336-1548057600-1548090000@septicpreservation.com
SUMMARY:Septic System Upgrade
DESCRIPTION:Septic System Upgrade for Acushnet property
URL:https://septicpreservation.com/schedule/septic-system-upgrade/
CATEGORIES:SPS Near You!
END:VEVENT
BEGIN:VEVENT
DTSTART;TZID=America/New_York:20190118T080000
DTEND;TZID=America/New_York:20190118T170000
DTSTAMP:20260422T090953
CREATED:20190117T011817Z
LAST-MODIFIED:20190117T011817Z
UID:5329-1547798400-1547830800@septicpreservation.com
SUMMARY:Septic Inspections
DESCRIPTION:Septic inspections in Hebron\, Harrison\, Auburn\, Lewiston\, North Bridgton\, West Paris and Turner
URL:https://septicpreservation.com/schedule/septic-inspections-66/
CATEGORIES:SPS Near You!
END:VEVENT
BEGIN:VEVENT
DTSTART;TZID=America/New_York:20190117T080000
DTEND;TZID=America/New_York:20190117T170000
DTSTAMP:20260422T090953
CREATED:20190117T005809Z
LAST-MODIFIED:20190117T005809Z
UID:5323-1547712000-1547744400@septicpreservation.com
SUMMARY:Septic Repairs
DESCRIPTION:Septic Repairs in Uxbridge\, Upton\, Sutton and Blackstone
URL:https://septicpreservation.com/schedule/septic-repairs-91/
CATEGORIES:SPS Near You!
END:VEVENT
BEGIN:VEVENT
DTSTART;TZID=America/New_York:20190116T080000
DTEND;TZID=America/New_York:20190116T170000
DTSTAMP:20260422T090953
CREATED:20190107T175803Z
LAST-MODIFIED:20190107T175803Z
UID:5316-1547625600-1547658000@septicpreservation.com
SUMMARY:Rhode Island Septic Inspections
DESCRIPTION:Rhode Island Septic Inspections in Little Compton\, Tiverton\, Barrington\, Middletown and Portsmouth.
URL:https://septicpreservation.com/schedule/rhode-island-septic-inspections-4/
CATEGORIES:SPS Near You!
END:VEVENT
BEGIN:VEVENT
DTSTART;TZID=America/New_York:20190115T080000
DTEND;TZID=America/New_York:20190115T170000
DTSTAMP:20260422T090953
CREATED:20190110T194435Z
LAST-MODIFIED:20190104T194545Z
UID:5308-1547539200-1547571600@septicpreservation.com
SUMMARY:Septic Repairs
DESCRIPTION:Septic repairs in Westport\, Marion\, Mattapoisett\, Fall River and Fairhaven
URL:https://septicpreservation.com/schedule/septic-repairs-90/
CATEGORIES:SPS Near You!
END:VEVENT
BEGIN:VEVENT
DTSTART;TZID=America/New_York:20190114T080000
DTEND;TZID=America/New_York:20190114T170000
DTSTAMP:20260422T090953
CREATED:20190104T191852Z
LAST-MODIFIED:20190104T191852Z
UID:5300-1547452800-1547485200@septicpreservation.com
SUMMARY:Title 5 Septic Inspections
DESCRIPTION:Title 5 septic inspections in Seekonk\, Rehoboth\, Norton\, Mansfield\, Attleboro and Wrentham
URL:https://septicpreservation.com/schedule/title-5-septic-inspections-42/
CATEGORIES:SPS Near You!
END:VEVENT
BEGIN:VEVENT
DTSTART;TZID=America/New_York:20190111T080000
DTEND;TZID=America/New_York:20190111T170000
DTSTAMP:20260422T090953
CREATED:20190107T164648Z
LAST-MODIFIED:20181217T214822Z
UID:5284-1547193600-1547226000@septicpreservation.com
SUMMARY:OBD Services and Repairs
DESCRIPTION:OBD services and repairs in Arrowsic\, Boothbay\, Westport Island\, Bremen\, Friendship\, West Bath and Richmond Maine.
URL:https://septicpreservation.com/schedule/obd-services-and-repairs-2/
CATEGORIES:SPS Near You!
END:VEVENT
BEGIN:VEVENT
DTSTART;TZID=America/New_York:20190110T080000
DTEND;TZID=America/New_York:20190110T170000
DTSTAMP:20260422T090953
CREATED:20181217T213110Z
LAST-MODIFIED:20181217T213110Z
UID:5276-1547107200-1547139600@septicpreservation.com
SUMMARY:Septic Design Meeting
DESCRIPTION:Septic Design Meeting for a Westport Property at our Norton Office
URL:https://septicpreservation.com/schedule/septic-design-meeting-23/
CATEGORIES:SPS Near You!
END:VEVENT
BEGIN:VEVENT
DTSTART;TZID=America/New_York:20190109T080000
DTEND;TZID=America/New_York:20190109T170000
DTSTAMP:20260422T090953
CREATED:20181217T203050Z
LAST-MODIFIED:20181217T203050Z
UID:5264-1547020800-1547053200@septicpreservation.com
SUMMARY:Septic Functional Inspections
DESCRIPTION:Septic functional inspections in Hopkinton\, Westerly\, West Greenwich\, Richmond and Exeter Rhode Island
URL:https://septicpreservation.com/schedule/septic-functional-inspections-8/
CATEGORIES:SPS Near You!
END:VEVENT
BEGIN:VEVENT
DTSTART;TZID=America/New_York:20190108T080000
DTEND;TZID=America/New_York:20190108T170000
DTSTAMP:20260422T090953
CREATED:20181217T211531Z
LAST-MODIFIED:20181217T211531Z
UID:5270-1546934400-1546966800@septicpreservation.com
SUMMARY:Title 5 Septic Inspections
DESCRIPTION:Title 5 Septic Inspections in Sharon\, Norton\, Dighton\, Berkley\, Raynham and Rehoboth MA
URL:https://septicpreservation.com/schedule/title-5-septic-inspections-41/
CATEGORIES:SPS Near You!
END:VEVENT
BEGIN:VEVENT
DTSTART;TZID=America/New_York:20190107T080000
DTEND;TZID=America/New_York:20190107T170000
DTSTAMP:20260422T090953
CREATED:20181224T221831Z
LAST-MODIFIED:20181214T222304Z
UID:5258-1546848000-1546880400@septicpreservation.com
SUMMARY:Septic Pumping
DESCRIPTION:Septic pumping in North Smithfield\, Cumberland\, Lincoln\, Smithfield and Burrillville
URL:https://septicpreservation.com/schedule/septic-pumping-39/
CATEGORIES:SPS Near You!
END:VEVENT
BEGIN:VEVENT
DTSTART;TZID=America/New_York:20190104T080000
DTEND;TZID=America/New_York:20190104T170000
DTSTAMP:20260422T090953
CREATED:20181213T181417Z
LAST-MODIFIED:20181213T181417Z
UID:5251-1546588800-1546621200@septicpreservation.com
SUMMARY:Septic Services
DESCRIPTION:Septic services in Norton\, Berkley\, Dighton\, East Bridgewater and Taunton
URL:https://septicpreservation.com/schedule/septic-services-30/
CATEGORIES:SPS Near You!
END:VEVENT
BEGIN:VEVENT
DTSTART;TZID=America/New_York:20190103T080000
DTEND;TZID=America/New_York:20190103T170000
DTSTAMP:20260422T090953
CREATED:20181213T174838Z
LAST-MODIFIED:20181213T174838Z
UID:5244-1546502400-1546534800@septicpreservation.com
SUMMARY:Septic Design Meeting
DESCRIPTION:Septic Design Meeting for Portsmouth RI Property
URL:https://septicpreservation.com/schedule/septic-design-meeting-22/
CATEGORIES:SPS Near You!
END:VEVENT
BEGIN:VEVENT
DTSTART;TZID=America/New_York:20190102T080000
DTEND;TZID=America/New_York:20190102T170000
DTSTAMP:20260422T090953
CREATED:20181213T173432Z
LAST-MODIFIED:20181213T173432Z
UID:5238-1546416000-1546448400@septicpreservation.com
SUMMARY:Septic Pumping
DESCRIPTION:Septic Pumping in Rowley\, Boxford\, Groveland\, Peabody\, Lynnfield and North Reading
URL:https://septicpreservation.com/schedule/septic-pumping-38/
CATEGORIES:SPS Near You!
END:VEVENT
BEGIN:VEVENT
DTSTART;TZID=America/New_York:20190101T080000
DTEND;TZID=America/New_York:20190101T170000
DTSTAMP:20260422T090953
CREATED:20181211T222728Z
LAST-MODIFIED:20181211T222728Z
UID:5227-1546329600-1546362000@septicpreservation.com
SUMMARY:New Years Day
DESCRIPTION:
URL:https://septicpreservation.com/schedule/new-years-day/
CATEGORIES:SPS Near You!
END:VEVENT
BEGIN:VEVENT
DTSTART;TZID=America/New_York:20181231T080000
DTEND;TZID=America/New_York:20181231T170000
DTSTAMP:20260422T090953
CREATED:20181211T222701Z
LAST-MODIFIED:20181211T222701Z
UID:5224-1546243200-1546275600@septicpreservation.com
SUMMARY:New Years Eve
DESCRIPTION:
URL:https://septicpreservation.com/schedule/new-years-eve/
CATEGORIES:SPS Near You!
END:VEVENT
BEGIN:VEVENT
DTSTART;TZID=America/New_York:20181228T080000
DTEND;TZID=America/New_York:20181228T170000
DTSTAMP:20260422T090953
CREATED:20181205T184753Z
LAST-MODIFIED:20181205T184753Z
UID:5188-1545984000-1546016400@septicpreservation.com
SUMMARY:Office Closed For The Holidays
DESCRIPTION:
URL:https://septicpreservation.com/schedule/office-closed-for-the-holidays-3/
CATEGORIES:SPS Near You!
END:VEVENT
BEGIN:VEVENT
DTSTART;TZID=America/New_York:20181227T080000
DTEND;TZID=America/New_York:20181227T170000
DTSTAMP:20260422T090953
CREATED:20181205T184729Z
LAST-MODIFIED:20181205T184729Z
UID:5185-1545897600-1545930000@septicpreservation.com
SUMMARY:Office Closed For The Holidays
DESCRIPTION:
URL:https://septicpreservation.com/schedule/office-closed-for-the-holidays-2/
CATEGORIES:SPS Near You!
END:VEVENT
BEGIN:VEVENT
DTSTART;TZID=America/New_York:20181226T080000
DTEND;TZID=America/New_York:20181226T170000
DTSTAMP:20260422T090953
CREATED:20181205T184704Z
LAST-MODIFIED:20181205T184704Z
UID:5182-1545811200-1545843600@septicpreservation.com
SUMMARY:Office Closed For The Holidays
DESCRIPTION:
URL:https://septicpreservation.com/schedule/office-closed-for-the-holidays/
CATEGORIES:SPS Near You!
END:VEVENT
BEGIN:VEVENT
DTSTART;TZID=America/New_York:20181225T080000
DTEND;TZID=America/New_York:20181225T170000
DTSTAMP:20260422T090953
CREATED:20181205T184629Z
LAST-MODIFIED:20181205T184629Z
UID:5179-1545724800-1545757200@septicpreservation.com
SUMMARY:Christmas Day
DESCRIPTION:
URL:https://septicpreservation.com/schedule/christmas-day/
CATEGORIES:SPS Near You!
END:VEVENT
BEGIN:VEVENT
DTSTART;TZID=America/New_York:20181224T080000
DTEND;TZID=America/New_York:20181224T170000
DTSTAMP:20260422T090953
CREATED:20181205T184601Z
LAST-MODIFIED:20181205T184601Z
UID:5175-1545638400-1545670800@septicpreservation.com
SUMMARY:Christmas Eve
DESCRIPTION:
URL:https://septicpreservation.com/schedule/christmas-eve/
CATEGORIES:SPS Near You!
END:VEVENT
BEGIN:VEVENT
DTSTART;TZID=America/New_York:20181221T080000
DTEND;TZID=America/New_York:20181221T170000
DTSTAMP:20260422T090953
CREATED:20181205T184530Z
LAST-MODIFIED:20181205T184530Z
UID:5172-1545379200-1545411600@septicpreservation.com
SUMMARY:Septic Repairs
DESCRIPTION:Septic repairs in Attleboro\, Marshfield\, Carver\, Taunton and Stoughton
URL:https://septicpreservation.com/schedule/septic-repairs-89/
CATEGORIES:SPS Near You!
END:VEVENT
BEGIN:VEVENT
DTSTART;TZID=America/New_York:20181220T080000
DTEND;TZID=America/New_York:20181220T170000
DTSTAMP:20260422T090953
CREATED:20181205T182319Z
LAST-MODIFIED:20181205T182319Z
UID:5165-1545292800-1545325200@septicpreservation.com
SUMMARY:Septic Design Meeting
DESCRIPTION:Septic Design Meeting for Rochester Property at our Norton office
URL:https://septicpreservation.com/schedule/septic-design-meeting-21/
CATEGORIES:SPS Near You!
END:VEVENT
END:VCALENDAR